BEGIN:VCALENDAR
VERSION:2.0
PRODID:-//Product Leaders Consulting//CPL-1 Schedule//EN
CALSCALE:GREGORIAN
METHOD:PUBLISH
BEGIN:VEVENT
UID:training-event-476-session-61@productleaders.consulting
DTSTAMP:20260425T145039Z
DTSTART:20260907T140000Z
DTEND:20260907T160000Z
SUMMARY:CPL-2 - CPL-2 | Cohort Kick-Off
LOCATION:Live Online (via Zoom)
END:VEVENT
BEGIN:VEVENT
UID:training-event-476-session-62@productleaders.consulting
DTSTAMP:20260425T145039Z
DTSTART:20260914T140000Z
DTEND:20260914T150000Z
SUMMARY:CPL-2 - CPL-2 | Group Mentoring & Coaching
LOCATION:Live Online (via Zoom)
END:VEVENT
BEGIN:VEVENT
UID:training-event-476-session-63@productleaders.consulting
DTSTAMP:20260425T145039Z
DTSTART:20260914T150000Z
DTEND:20260914T160000Z
SUMMARY:CPL-2 - CPL-2 | Facilitated Group Review Week 1
LOCATION:Live Online (via Zoom)
END:VEVENT
BEGIN:VEVENT
UID:training-event-476-session-64@productleaders.consulting
DTSTAMP:20260425T145039Z
DTSTART:20260921T140000Z
DTEND:20260921T150000Z
SUMMARY:CPL-2 - CPL-2 | Group Mentoring & Coaching
LOCATION:Live Online (via Zoom)
END:VEVENT
BEGIN:VEVENT
UID:training-event-476-session-65@productleaders.consulting
DTSTAMP:20260425T145039Z
DTSTART:20260921T150000Z
DTEND:20260921T160000Z
SUMMARY:CPL-2 - CPL-2 | Facilitated Group Review Week 2
LOCATION:Live Online (via Zoom)
END:VEVENT
BEGIN:VEVENT
UID:training-event-476-session-66@productleaders.consulting
DTSTAMP:20260425T145039Z
DTSTART:20260928T140000Z
DTEND:20260928T150000Z
SUMMARY:CPL-2 - CPL-2 | Group Mentoring & Coaching
LOCATION:Live Online (via Zoom)
END:VEVENT
BEGIN:VEVENT
UID:training-event-476-session-67@productleaders.consulting
DTSTAMP:20260425T145039Z
DTSTART:20260928T150000Z
DTEND:20260928T160000Z
SUMMARY:CPL-2 - CPL-2 | Facilitated Group Review Week 3
LOCATION:Live Online (via Zoom)
END:VEVENT
BEGIN:VEVENT
UID:training-event-476-session-68@productleaders.consulting
DTSTAMP:20260425T145039Z
DTSTART:20261005T140000Z
DTEND:20261005T150000Z
SUMMARY:CPL-2 - CPL-2 | Group Mentoring & Coaching
LOCATION:Live Online (via Zoom)
END:VEVENT
BEGIN:VEVENT
UID:training-event-476-session-69@productleaders.consulting
DTSTAMP:20260425T145039Z
DTSTART:20261005T150000Z
DTEND:20261005T160000Z
SUMMARY:CPL-2 - CPL-2 | Facilitated Group Review Week 4
LOCATION:Live Online (via Zoom)
END:VEVENT
BEGIN:VEVENT
UID:training-event-476-session-70@productleaders.consulting
DTSTAMP:20260425T145039Z
DTSTART:20261012T140000Z
DTEND:20261012T150000Z
SUMMARY:CPL-2 - CPL-2 | Group Mentoring & Coaching
LOCATION:Live Online (via Zoom)
END:VEVENT
BEGIN:VEVENT
UID:training-event-476-session-71@productleaders.consulting
DTSTAMP:20260425T145039Z
DTSTART:20261012T150000Z
DTEND:20261012T160000Z
SUMMARY:CPL-2 - CPL-2 | Facilitated Group Review Week 5
LOCATION:Live Online (via Zoom)
END:VEVENT
BEGIN:VEVENT
UID:training-event-476-session-72@productleaders.consulting
DTSTAMP:20260425T145039Z
DTSTART:20261019T140000Z
DTEND:20261019T150000Z
SUMMARY:CPL-2 - CPL-2 | Group Mentoring & Coaching
LOCATION:Live Online (via Zoom)
END:VEVENT
BEGIN:VEVENT
UID:training-event-476-session-73@productleaders.consulting
DTSTAMP:20260425T145039Z
DTSTART:20261019T150000Z
DTEND:20261019T160000Z
SUMMARY:CPL-2 - CPL-2 | Facilitated Group Review Week 6
LOCATION:Live Online (via Zoom)
END:VEVENT
BEGIN:VEVENT
UID:training-event-476-session-74@productleaders.consulting
DTSTAMP:20260425T145039Z
DTSTART:20261026T150000Z
DTEND:20261026T160000Z
SUMMARY:CPL-2 - CPL-2 | Group Mentoring & Coaching
LOCATION:Live Online (via Zoom)
END:VEVENT
BEGIN:VEVENT
UID:training-event-476-session-75@productleaders.consulting
DTSTAMP:20260425T145039Z
DTSTART:20261026T160000Z
DTEND:20261026T170000Z
SUMMARY:CPL-2 - CPL-2 | Facilitated Group Review Week 7
LOCATION:Live Online (via Zoom)
END:VEVENT
BEGIN:VEVENT
UID:training-event-476-session-76@productleaders.consulting
DTSTAMP:20260425T145039Z
DTSTART:20261102T150000Z
DTEND:20261102T170000Z
SUMMARY:CPL-2 - CPL-2 | Capstone & Group Review Week 8
LOCATION:Live Online (via Zoom)
END:VEVENT
END:VCALENDAR