BEGIN:VCALENDAR
VERSION:2.0
PRODID:-//Product Leaders Consulting//CPL-1 Schedule//EN
CALSCALE:GREGORIAN
METHOD:PUBLISH
BEGIN:VEVENT
UID:training-event-467-session-21@productleaders.consulting
DTSTAMP:20260425T145039Z
DTSTART:20260504T070000Z
DTEND:20260504T160000Z
SUMMARY:CPL-1 - CPL-1 | Live Training Day 1
LOCATION:Hotel Schani Wien Hauptbahnhof\, Wien
END:VEVENT
BEGIN:VEVENT
UID:training-event-467-session-22@productleaders.consulting
DTSTAMP:20260425T145039Z
DTSTART:20260505T070000Z
DTEND:20260505T160000Z
SUMMARY:CPL-1 - CPL-1 | Live Training Day 2
LOCATION:Hotel Schani Wien Hauptbahnhof\, Wien
END:VEVENT
BEGIN:VEVENT
UID:training-event-467-session-23@productleaders.consulting
DTSTAMP:20260425T145039Z
DTSTART:20260506T070000Z
DTEND:20260506T160000Z
SUMMARY:CPL-1 - CPL-1 | Live Training Day 3
LOCATION:Hotel Schani Wien Hauptbahnhof\, Wien
END:VEVENT
BEGIN:VEVENT
UID:training-event-467-session-24@productleaders.consulting
DTSTAMP:20260425T145039Z
DTSTART:20260603T070000Z
DTEND:20260603T110000Z
SUMMARY:CPL-1 - CPL-1 | Capstone Event (virtual)
LOCATION:Hotel Schani Wien Hauptbahnhof\, Wien
END:VEVENT
END:VCALENDAR